BEGIN:VCALENDAR
VERSION:2.0
PRODID:-//ddaysoftware.com//NONSGML DDay.iCal 1.0//EN
BEGIN:VTIMEZONE
TZID:W. Europe Standard Time
BEGIN:STANDARD
DTSTART:20251002T030000
RRULE:FREQ=YEARLY;BYDAY=-1SU;BYHOUR=3;BYMINUTE=0;BYMONTH=10
TZNAME:Mitteleuropäische Zeit
TZOFFSETFROM:+0200
TZOFFSETTO:+0100
END:STANDARD
BEGIN:DAYLIGHT
DTSTART:20250301T020000
RRULE:FREQ=YEARLY;BYDAY=-1SU;BYHOUR=2;BYMINUTE=0;BYMONTH=3
TZNAME:Mitteleuropäische Sommerzeit
TZOFFSETFROM:+0100
TZOFFSETTO:+0200
END:DAYLIGHT
END:VTIMEZONE
BEGIN:VEVENT
CATEGORIES:Fest\, Kulinarisches
DESCRIPTION:\n\nVeranstalter: Gewerbering Wörth a.Main\n\nhttps://www.woert
 h-am-main.de/freizeit-tourismus/veranstaltungen/woerther-kerb-2-5/
DTEND:20260928T190000
DTSTAMP:20260420T144535Z
DTSTART:20260926T150000
LOCATION:Bahngelände und Bauhofvorplatz: Luxburgstraße\, 63939  Wörth a.Mai
 n
SEQUENCE:0
SUMMARY:Wörther Kerb
UID:198701
URL:https://www.woerth-am-main.de/freizeit-tourismus/veranstaltungen/woerth
 er-kerb-2-5/
END:VEVENT
END:VCALENDAR
