BEGIN:VCALENDAR
VERSION:2.0
PRODID:-//ddaysoftware.com//NONSGML DDay.iCal 1.0//EN
BEGIN:VTIMEZONE
TZID:W. Europe Standard Time
BEGIN:STANDARD
DTSTART:20251002T030000
RRULE:FREQ=YEARLY;BYDAY=-1SU;BYHOUR=3;BYMINUTE=0;BYMONTH=10
TZNAME:Mitteleuropäische Zeit
TZOFFSETFROM:+0200
TZOFFSETTO:+0100
END:STANDARD
BEGIN:DAYLIGHT
DTSTART:20250301T020000
RRULE:FREQ=YEARLY;BYDAY=-1SU;BYHOUR=2;BYMINUTE=0;BYMONTH=3
TZNAME:Mitteleuropäische Sommerzeit
TZOFFSETFROM:+0100
TZOFFSETTO:+0200
END:DAYLIGHT
END:VTIMEZONE
BEGIN:VEVENT
CATEGORIES:Sitzung (öffentlich)
DESCRIPTION:\n\nVeranstalter: Stadt Wörth a.Main\n\nhttps://www.woerth-am-m
 ain.de/rathaus-service/ratsinformationen/sitzungstermine/sitzung-des-bau-u
 nd-umweltausschusses-71/
DTEND:20261202T200000
DTSTAMP:20260420T144713Z
DTSTART:20261202T190000
LOCATION:Rathaus Stadt Wörth a.Main: Luxburgstr. 10\, 63939 Wörth a.Main
SEQUENCE:0
SUMMARY:Sitzung des Bau- und Umweltausschusses
UID:198670
URL:https://www.woerth-am-main.de/rathaus-service/ratsinformationen/sitzung
 stermine/sitzung-des-bau-und-umweltausschusses-71/
END:VEVENT
END:VCALENDAR
